BEGIN:VCALENDAR
VERSION:2.0
PRODID:-// - ECPv6.0.11//NONSGML v1.0//EN
CALSCALE:GREGORIAN
METHOD:PUBLISH
X-ORIGINAL-URL:https://lesbar-lommatzsch.de
X-WR-CALDESC:Veranstaltungen für 
REFRESH-INTERVAL;VALUE=DURATION:PT1H
X-Robots-Tag:noindex
X-PUBLISHED-TTL:PT1H
BEGIN:VTIMEZONE
TZID:UTC
BEGIN:STANDARD
TZOFFSETFROM:+0000
TZOFFSETTO:+0000
TZNAME:UTC
DTSTART:20250101T000000
END:STANDARD
END:VTIMEZONE
BEGIN:VEVENT
DTSTART;TZID=UTC:20250305T183000
DTEND;TZID=UTC:20250305T203000
DTSTAMP:20260419T184704
CREATED:20250225T125736Z
LAST-MODIFIED:20250225T125855Z
UID:560-1741199400-1741206600@lesbar-lommatzsch.de
SUMMARY:Frühlingskräuter mit Koreen
DESCRIPTION:Wir starten mit Frühlingskräutern in die Kräutersaison. Karten gibt es im Vorverkauf in der LESBAR. Begrenzte Platzzahl.
URL:https://lesbar-lommatzsch.de/event/fruehlingskraeuter-mit-koreen
LOCATION:LESBAR\, Meißner Str. 2\, Lommatzsch\, 01623\, Deutschland
ORGANIZER;CN="LESBAR%20GbR":MAILTO:shop@lesbar-lommatzsch.de
END:VEVENT
BEGIN:VEVENT
DTSTART;TZID=UTC:20250306T183000
DTEND;TZID=UTC:20250306T203000
DTSTAMP:20260419T184704
CREATED:20250225T130346Z
LAST-MODIFIED:20250225T130346Z
UID:563-1741285800-1741293000@lesbar-lommatzsch.de
SUMMARY:Weinabend mit Cambium Compagnie
DESCRIPTION:Freut euch auf einen tollen und amüsanten Weinabend mit Martin\, dem Winzer der Cambium Compagnie Mauna. Karten gibt es im Vorverkauf in der LESBAR. Begrenzte Platzzahl.
URL:https://lesbar-lommatzsch.de/event/weinabend-mit-cambium-compagnie-2
LOCATION:LESBAR\, Meißner Str. 2\, Lommatzsch\, 01623\, Deutschland
ORGANIZER;CN="LESBAR%20GbR":MAILTO:shop@lesbar-lommatzsch.de
END:VEVENT
BEGIN:VEVENT
DTSTART;TZID=UTC:20250319T183000
DTEND;TZID=UTC:20250319T203000
DTSTAMP:20260419T184704
CREATED:20250225T130507Z
LAST-MODIFIED:20250225T130507Z
UID:565-1742409000-1742416200@lesbar-lommatzsch.de
SUMMARY:Wasser - Elexier des Lebens
DESCRIPTION:Wir bringen Licht in den Wasser-Informations-Dschungel – mit spannenden Messungen und Experimenten. \nKarten gibt es im Vorverkauf in der LESBAR. Begrenzte Platzzahl.
URL:https://lesbar-lommatzsch.de/event/wasser-elexier-des-lebens
LOCATION:LESBAR\, Meißner Str. 2\, Lommatzsch\, 01623\, Deutschland
ORGANIZER;CN="LESBAR%20GbR":MAILTO:shop@lesbar-lommatzsch.de
END:VEVENT
END:VCALENDAR