BEGIN:VCALENDAR
VERSION:2.0
PRODID:-// - ECPv6.0.11//NONSGML v1.0//EN
CALSCALE:GREGORIAN
METHOD:PUBLISH
X-ORIGINAL-URL:https://lesbar-lommatzsch.de
X-WR-CALDESC:Veranstaltungen für 
REFRESH-INTERVAL;VALUE=DURATION:PT1H
X-Robots-Tag:noindex
X-PUBLISHED-TTL:PT1H
BEGIN:VTIMEZONE
TZID:UTC
BEGIN:STANDARD
TZOFFSETFROM:+0000
TZOFFSETTO:+0000
TZNAME:UTC
DTSTART:20250101T000000
END:STANDARD
END:VTIMEZONE
BEGIN:VEVENT
DTSTART;TZID=UTC:20250409T183000
DTEND;TZID=UTC:20250409T203000
DTSTAMP:20260419T184737
CREATED:20250225T131816Z
LAST-MODIFIED:20250225T131816Z
UID:572-1744223400-1744230600@lesbar-lommatzsch.de
SUMMARY:Mein Lieblingsbuch
DESCRIPTION:Das große LESEN – die LESBAR sucht das Lieblingsbuch! Außerdem haben wir alle Neuigkeiten der diesjährigen Buchmesse im Gepäck. \nKarten gibt es im Vorverkauf in der LESBAR. Begrenzte Platzzahl.
URL:https://lesbar-lommatzsch.de/event/mein-lieblingsbuch
LOCATION:LESBAR\, Meißner Str. 2\, Lommatzsch\, 01623\, Deutschland
ORGANIZER;CN="LESBAR%20GbR":MAILTO:shop@lesbar-lommatzsch.de
END:VEVENT
END:VCALENDAR