BEGIN:VCALENDAR
VERSION:2.0
PRODID:-// - ECPv6.0.11//NONSGML v1.0//EN
CALSCALE:GREGORIAN
METHOD:PUBLISH
X-ORIGINAL-URL:https://lesbar-lommatzsch.de
X-WR-CALDESC:Veranstaltungen für 
REFRESH-INTERVAL;VALUE=DURATION:PT1H
X-Robots-Tag:noindex
X-PUBLISHED-TTL:PT1H
BEGIN:VTIMEZONE
TZID:UTC
BEGIN:STANDARD
TZOFFSETFROM:+0000
TZOFFSETTO:+0000
TZNAME:UTC
DTSTART:20240101T000000
END:STANDARD
END:VTIMEZONE
BEGIN:VEVENT
DTSTART;TZID=UTC:20240612T063000
DTEND;TZID=UTC:20240612T203000
DTSTAMP:20260424T113317
CREATED:20240213T091323Z
LAST-MODIFIED:20240213T091323Z
UID:544-1718173800-1718224200@lesbar-lommatzsch.de
SUMMARY:Sommerkräuterei mit Kräuterfrau Koreen
DESCRIPTION:
URL:https://lesbar-lommatzsch.de/event/sommerkraeuterei-mit-kraeuterfrau-koreen
LOCATION:LESBAR\, Meißner Str. 2\, Lommatzsch\, 01623\, Deutschland
ORGANIZER;CN="LESBAR%20GbR":MAILTO:shop@lesbar-lommatzsch.de
END:VEVENT
END:VCALENDAR